BEGIN:VCALENDAR
VERSION:2.0
PRODID:-//City of Sherwood - ECPv6.15.17//NONSGML v1.0//EN
CALSCALE:GREGORIAN
METHOD:PUBLISH
X-ORIGINAL-URL:https://www.sherwoodoregon.gov
X-WR-CALDESC:Events for City of Sherwood
REFRESH-INTERVAL;VALUE=DURATION:PT1H
X-Robots-Tag:noindex
X-PUBLISHED-TTL:PT1H
BEGIN:VTIMEZONE
TZID:America/Los_Angeles
BEGIN:DAYLIGHT
TZOFFSETFROM:-0800
TZOFFSETTO:-0700
TZNAME:PDT
DTSTART:20240310T100000
END:DAYLIGHT
BEGIN:STANDARD
TZOFFSETFROM:-0700
TZOFFSETTO:-0800
TZNAME:PST
DTSTART:20241103T090000
END:STANDARD
BEGIN:DAYLIGHT
TZOFFSETFROM:-0800
TZOFFSETTO:-0700
TZNAME:PDT
DTSTART:20250309T100000
END:DAYLIGHT
BEGIN:STANDARD
TZOFFSETFROM:-0700
TZOFFSETTO:-0800
TZNAME:PST
DTSTART:20251102T090000
END:STANDARD
BEGIN:DAYLIGHT
TZOFFSETFROM:-0800
TZOFFSETTO:-0700
TZNAME:PDT
DTSTART:20260308T100000
END:DAYLIGHT
BEGIN:STANDARD
TZOFFSETFROM:-0700
TZOFFSETTO:-0800
TZNAME:PST
DTSTART:20261101T090000
END:STANDARD
END:VTIMEZONE
BEGIN:VEVENT
DTSTART;TZID=America/Los_Angeles:20250121T180000
DTEND;TZID=America/Los_Angeles:20250121T200000
DTSTAMP:20260423T092731
CREATED:20250929T224256Z
LAST-MODIFIED:20250929T224256Z
UID:10000813-1737482400-1737489600@www.sherwoodoregon.gov
SUMMARY:City Council Meeting
DESCRIPTION:
URL:https://www.sherwoodoregon.gov/meetings/city-council-meeting-27
LOCATION:Sherwood City Hall\, Community Room\, 22560 SW Pine Street\, Sherwood\, OR\, 97140\, United States
CATEGORIES:City Council
END:VEVENT
BEGIN:VEVENT
DTSTART;TZID=America/Los_Angeles:20250121T190000
DTEND;TZID=America/Los_Angeles:20250121T200000
DTSTAMP:20260423T092731
CREATED:20251103T192502Z
LAST-MODIFIED:20251103T192502Z
UID:10001058-1737486000-1737489600@www.sherwoodoregon.gov
SUMMARY:URA Board Meeting
DESCRIPTION:
URL:https://www.sherwoodoregon.gov/events_detail/ura-board-meeting-3/
LOCATION:Sherwood City Hall\, Community Room\, 22560 SW Pine Street\, Sherwood\, OR\, 97140\, United States
END:VEVENT
BEGIN:VEVENT
DTSTART;TZID=America/Los_Angeles:20250121T190000
DTEND;TZID=America/Los_Angeles:20250121T200000
DTSTAMP:20260423T092731
CREATED:20251103T193242Z
LAST-MODIFIED:20251103T193242Z
UID:10001059-1737486000-1737489600@www.sherwoodoregon.gov
SUMMARY:URA Board Meeting
DESCRIPTION:
URL:https://www.sherwoodoregon.gov/meetings/ura-board-meeting-4
LOCATION:Sherwood City Hall\, Community Room\, 22560 SW Pine Street\, Sherwood\, OR\, 97140\, United States
CATEGORIES:City Council
END:VEVENT
BEGIN:VEVENT
DTSTART;TZID=America/Los_Angeles:20250127T183000
DTEND;TZID=America/Los_Angeles:20250127T193000
DTSTAMP:20260423T092731
CREATED:20250923T180352Z
LAST-MODIFIED:20250923T180505Z
UID:10000799-1738002600-1738006200@www.sherwoodoregon.gov
SUMMARY:Cultural Arts Commission Meeting
DESCRIPTION:
URL:https://www.sherwoodoregon.gov/meetings/cultural-arts-commission-meeting-6
LOCATION:Sherwood Center for the Arts\, 22689 Pine St.\, Sherwood\, OR\, 97140\, United States
CATEGORIES:Cultural Arts
END:VEVENT
BEGIN:VEVENT
DTSTART;TZID=America/Los_Angeles:20250203T190000
DTEND;TZID=America/Los_Angeles:20250203T200000
DTSTAMP:20260423T092731
CREATED:20260214T000830Z
LAST-MODIFIED:20260214T000830Z
UID:10001731-1738609200-1738612800@www.sherwoodoregon.gov
SUMMARY:Parks and Recreation Advisory Board Meeting CANCELLED
DESCRIPTION:
URL:https://www.sherwoodoregon.gov/meetings/parks-and-recreation-advisory-board-meeting-cancelled-14
LOCATION:Sherwood City Hall\, Community Room\, 22560 SW Pine Street\, Sherwood\, OR\, 97140\, United States
CATEGORIES:Parks & Recreation Advisory Board
END:VEVENT
BEGIN:VEVENT
DTSTART;TZID=America/Los_Angeles:20250204T180000
DTEND;TZID=America/Los_Angeles:20250204T193000
DTSTAMP:20260423T092731
CREATED:20250929T223401Z
LAST-MODIFIED:20250929T223503Z
UID:10000811-1738692000-1738697400@www.sherwoodoregon.gov
SUMMARY:City Council Meeting
DESCRIPTION:
URL:https://www.sherwoodoregon.gov/meetings/city-council-meeting-25
LOCATION:Sherwood City Hall\, Community Room\, 22560 SW Pine Street\, Sherwood\, OR\, 97140\, United States
CATEGORIES:City Council
END:VEVENT
BEGIN:VEVENT
DTSTART;TZID=America/Los_Angeles:20250217T183000
DTEND;TZID=America/Los_Angeles:20250217T193000
DTSTAMP:20260423T092731
CREATED:20250923T180132Z
LAST-MODIFIED:20250923T180132Z
UID:10000798-1739817000-1739820600@www.sherwoodoregon.gov
SUMMARY:Cultural Arts Commission Meeting
DESCRIPTION:
URL:https://www.sherwoodoregon.gov/meetings/cultural-arts-commission-meeting-5
LOCATION:Sherwood Center for the Arts\, 22689 Pine St.\, Sherwood\, OR\, 97140\, United States
CATEGORIES:Cultural Arts
END:VEVENT
BEGIN:VEVENT
DTSTART;TZID=America/Los_Angeles:20250218T180000
DTEND;TZID=America/Los_Angeles:20250218T190000
DTSTAMP:20260423T092731
CREATED:20250929T222329Z
LAST-MODIFIED:20250929T222329Z
UID:10000809-1739901600-1739905200@www.sherwoodoregon.gov
SUMMARY:City Council Meeting
DESCRIPTION:
URL:https://www.sherwoodoregon.gov/events_detail/city-council-meeting-23/
LOCATION:Sherwood City Hall\, Community Room\, 22560 SW Pine Street\, Sherwood\, OR\, 97140\, United States
END:VEVENT
BEGIN:VEVENT
DTSTART;TZID=America/Los_Angeles:20250218T180000
DTEND;TZID=America/Los_Angeles:20250218T190000
DTSTAMP:20260423T092731
CREATED:20250929T222819Z
LAST-MODIFIED:20250929T222819Z
UID:10000810-1739901600-1739905200@www.sherwoodoregon.gov
SUMMARY:City Council Meeting
DESCRIPTION:
URL:https://www.sherwoodoregon.gov/meetings/city-council-meeting-24
LOCATION:Sherwood City Hall\, Community Room\, 22560 SW Pine Street\, Sherwood\, OR\, 97140\, United States
CATEGORIES:City Council
END:VEVENT
BEGIN:VEVENT
DTSTART;TZID=America/Los_Angeles:20250219T183000
DTEND;TZID=America/Los_Angeles:20250219T200000
DTSTAMP:20260423T092731
CREATED:20250827T224029Z
LAST-MODIFIED:20250827T224310Z
UID:10000744-1739989800-1739995200@www.sherwoodoregon.gov
SUMMARY:Library Advisory Board Meeting
DESCRIPTION:
URL:https://www.sherwoodoregon.gov/events/library-advisory-board-meeting-10
LOCATION:Sherwood City Hall / Library\, Exec Board Room (Conference Room A)\, 22560 SW Pine Street\, Sherwood\, OR\, 97140\, United States
CATEGORIES:Boards and Commissions,Events,Library,Library Advisory Board
END:VEVENT
BEGIN:VEVENT
DTSTART;TZID=America/Los_Angeles:20250225T060000
DTEND;TZID=America/Los_Angeles:20250923T190000
DTSTAMP:20260423T092731
CREATED:20250923T185237Z
LAST-MODIFIED:20250923T185237Z
UID:10000800-1740463200-1758654000@www.sherwoodoregon.gov
SUMMARY:Planning Commission Work Session - February 25\, 2025
DESCRIPTION:
URL:https://www.sherwoodoregon.gov/meetings/planning-commission-work-session-february-25-2025
LOCATION:OR
CATEGORIES:Planning Commission
END:VEVENT
BEGIN:VEVENT
DTSTART;TZID=America/Los_Angeles:20250301T000000
DTEND;TZID=America/Los_Angeles:20250322T235959
DTSTAMP:20260423T092731
CREATED:20250802T011133Z
LAST-MODIFIED:20250802T011133Z
UID:10000473-1740787200-1742687999@www.sherwoodoregon.gov
SUMMARY:Six Word Story Contest 2025
DESCRIPTION:There’s a literary legend that Ernest Hemingway\, while having dinner with fellow writers of the famous Algonquin Round Table in New York City\, bet he could write a story in just six words. They bet not. He grabbed a pen and a napkin and wrote: \n“For Sale: baby shoes\, never worn.” \nThey paid up and Hemingway called it his best work. Now it’s your turn! \nEnter the Library’s twelfth annual Six Word Story contest\, between March 1 and 22\, and you could win prizes. Who knows\, you might even win a place in literary history. We will have a special team of Six Word Story contest judges who will review all submitted stories and help determine the winners. Winners will be announced during National Library Week\, April 6-12. \nPrizes: Named for famous short story writers\, our three prizes are as follows: \n1st prize “The Ernest Hemingway” \n2nd prize “The Sandra Cisneros” \n3rd prize “The James Baldwin” \nSubmit your Six Word Stories in one of these ways: \n\nEmail to askusSPL@sherwoodoregon.gov.\nIn the submission box at Sherwood Public Library.\nSend us a Facebook message.\n\nPlease include your full name\, age (if under 18)\, and contact info (either a telephone number or an email). \nRules: \n\nYour story must have six words.\nHyphenated words or contractions (such as I’m\, can’t\, wasn’t\, etc.) are allowed and count as one word. However\, you may only use one of them per story.\nYour story must be your original work.\nYou may submit up to two Six Word Stories per contestant.\nYour Six Word Story must be submitted by Saturday\, March 22\, 2025.\nThis is a family-friendly contest\, so please use appropriate content.\nBy entering the Six Word Story Contest\, you give Sherwood Public Library the rights to post your story and name in the Library and in our media outlets.
URL:https://www.sherwoodoregon.gov/events/six-word-story-contest-2025
LOCATION:OR
CATEGORIES:Library
ATTACH;FMTTYPE=image/png:https://www.sherwoodoregon.gov/wp-content/uploads/2025/08/sws-2025.png
END:VEVENT
BEGIN:VEVENT
DTSTART;TZID=America/Los_Angeles:20250303T190000
DTEND;TZID=America/Los_Angeles:20250303T200000
DTSTAMP:20260423T092731
CREATED:20260214T001007Z
LAST-MODIFIED:20260214T001007Z
UID:10001732-1741028400-1741032000@www.sherwoodoregon.gov
SUMMARY:Parks and Recreation Advisory Board Meeting
DESCRIPTION:
URL:https://www.sherwoodoregon.gov/meetings/parks-and-recreation-advisory-board-meeting-39
LOCATION:Sherwood City Hall\, Community Room\, 22560 SW Pine Street\, Sherwood\, OR\, 97140\, United States
CATEGORIES:Parks & Recreation Advisory Board
END:VEVENT
BEGIN:VEVENT
DTSTART;TZID=America/Los_Angeles:20250304T180000
DTEND;TZID=America/Los_Angeles:20250304T200000
DTSTAMP:20260423T092731
CREATED:20250929T221720Z
LAST-MODIFIED:20250929T221720Z
UID:10000808-1741111200-1741118400@www.sherwoodoregon.gov
SUMMARY:City Council Meeting
DESCRIPTION:
URL:https://www.sherwoodoregon.gov/meetings/city-council-meeting-22
LOCATION:Sherwood City Hall\, Community Room\, 22560 SW Pine Street\, Sherwood\, OR\, 97140\, United States
CATEGORIES:City Council
END:VEVENT
BEGIN:VEVENT
DTSTART;TZID=America/Los_Angeles:20250307T000000
DTEND;TZID=America/Los_Angeles:20250307T000000
DTSTAMP:20260423T092731
CREATED:20250821T021232Z
LAST-MODIFIED:20250821T021232Z
UID:10000736-1741305600-1741305600@www.sherwoodoregon.gov
SUMMARY:Library Opens at 1:00 p.m. on Friday\, March 7
DESCRIPTION:Sherwood Public Library opens at 1:00 p.m. on Friday\, March 7\, to allow library staff to participate in training. \nThank you for your understanding. Materials may be returned to the book drop located at the Pine Street entrance or in the parking lot.
URL:https://www.sherwoodoregon.gov/events/library-opens-at-100-p-m-on-friday-march-7
LOCATION:OR
CATEGORIES:Library
ATTACH;FMTTYPE=image/jpeg:https://www.sherwoodoregon.gov/wp-content/uploads/2025/04/sherwood-library-azvz0h-tmp-.jpg
END:VEVENT
BEGIN:VEVENT
DTSTART;TZID=America/Los_Angeles:20250317T183000
DTEND;TZID=America/Los_Angeles:20250317T193000
DTSTAMP:20260423T092731
CREATED:20250923T175833Z
LAST-MODIFIED:20250923T175845Z
UID:10000797-1742236200-1742239800@www.sherwoodoregon.gov
SUMMARY:Cultural Arts Commission Meeting
DESCRIPTION:
URL:https://www.sherwoodoregon.gov/meetings/cultural-arts-commission-meeting-cancelled-2
LOCATION:Sherwood Center for the Arts\, 22689 Pine St.\, Sherwood\, OR\, 97140\, United States
CATEGORIES:Cultural Arts
END:VEVENT
BEGIN:VEVENT
DTSTART;TZID=America/Los_Angeles:20250318T173000
DTEND;TZID=America/Los_Angeles:20250318T200000
DTSTAMP:20260423T092731
CREATED:20250929T221017Z
LAST-MODIFIED:20250929T222433Z
UID:10000807-1742319000-1742328000@www.sherwoodoregon.gov
SUMMARY:City Council Meeting
DESCRIPTION:
URL:https://www.sherwoodoregon.gov/meetings/city-council-meeting-2
LOCATION:https://www.youtube.com/user/CityofSherwood
CATEGORIES:City Council
END:VEVENT
BEGIN:VEVENT
DTSTART;TZID=America/Los_Angeles:20250318T190000
DTEND;TZID=America/Los_Angeles:20250318T200000
DTSTAMP:20260423T092732
CREATED:20251103T193439Z
LAST-MODIFIED:20251103T193439Z
UID:10001060-1742324400-1742328000@www.sherwoodoregon.gov
SUMMARY:URA Board Meeting
DESCRIPTION:
URL:https://www.sherwoodoregon.gov/meetings/ura-board-meeting-5
LOCATION:Sherwood City Hall\, Community Room\, 22560 SW Pine Street\, Sherwood\, OR\, 97140\, United States
CATEGORIES:City Council
END:VEVENT
BEGIN:VEVENT
DTSTART;TZID=America/Los_Angeles:20250319T183000
DTEND;TZID=America/Los_Angeles:20250319T200000
DTSTAMP:20260423T092732
CREATED:20250331T210108Z
LAST-MODIFIED:20250529T170637Z
UID:10000010-1742409000-1742414400@www.sherwoodoregon.gov
SUMMARY:Library Advisory Board Meeting
DESCRIPTION:
URL:https://www.sherwoodoregon.gov/meetings/library-advisory-board-meeting
LOCATION:Sherwood City Hall / Library\, Exec Board Room (Conference Room A)\, 22560 SW Pine Street\, Sherwood\, OR\, 97140\, United States
CATEGORIES:Library Advisory Board
END:VEVENT
BEGIN:VEVENT
DTSTART;TZID=America/Los_Angeles:20250320T190000
DTEND;TZID=America/Los_Angeles:20250320T190000
DTSTAMP:20260423T092732
CREATED:20250331T225159Z
LAST-MODIFIED:20250403T004941Z
UID:10000012-1742497200-1742497200@www.sherwoodoregon.gov
SUMMARY:Police Advisory Board
DESCRIPTION:
URL:https://www.sherwoodoregon.gov/meetings/police-advisory-board
LOCATION:Sherwood Police Department\, Community Room\, 20495 SW Borchers Drive\, Sherwood\, OR\, 97140\, United States
CATEGORIES:Boards and Commissions,Police Advisory Board
END:VEVENT
BEGIN:VEVENT
DTSTART;TZID=America/Los_Angeles:20250331T173000
DTEND;TZID=America/Los_Angeles:20250331T183000
DTSTAMP:20260423T092732
CREATED:20250924T222756Z
LAST-MODIFIED:20250924T222756Z
UID:10000801-1743442200-1743445800@www.sherwoodoregon.gov
SUMMARY:Hearings Officer Meeting - March 31\, 2025
DESCRIPTION:https://www.youtube.com/watch?v=8tgwmkJZSzI
URL:https://www.sherwoodoregon.gov/meetings/hearings-officer-meeting-march-31-2025
LOCATION:OR
CATEGORIES:Planning Commission
END:VEVENT
BEGIN:VEVENT
DTSTART;TZID=America/Los_Angeles:20250401T160000
DTEND;TZID=America/Los_Angeles:20250401T170000
DTSTAMP:20260423T092732
CREATED:20250402T225904Z
LAST-MODIFIED:20250529T175812Z
UID:10000091-1743523200-1743526800@www.sherwoodoregon.gov
SUMMARY:TeenLAB
DESCRIPTION:TeenLAB is a Teen Library Advisory Board. It’s aim is to volunteer time to advocate and to improve the library for youth. It’s also a great place to build your resume. \nIn this 1-hour program for youth 7th-12th grade\, attendees gain a variety of skills: working with others\, planning projects\, completing projects\, teamwork\, and more. \nThis program is in-person only and because of the varied projects\, meeting location changes according to the project. Arrive at the front desk 5 minutes early to inquire where the group is meeting. \nFor questions pertaining to this event\, please email askusSPL@sherwoodoregon.gov
URL:https://www.sherwoodoregon.gov/events_detail/teenlab-2/2025-04-01/
LOCATION:OR
CATEGORIES:Library
ATTACH;FMTTYPE=image/jpeg:https://www.sherwoodoregon.gov/wp-content/uploads/2025/04/teenlab-circle.jpg
END:VEVENT
BEGIN:VEVENT
DTSTART;TZID=America/Los_Angeles:20250401T190000
DTEND;TZID=America/Los_Angeles:20250401T210000
DTSTAMP:20260423T092732
CREATED:20250331T185531Z
LAST-MODIFIED:20250918T223132Z
UID:10000007-1743534000-1743541200@www.sherwoodoregon.gov
SUMMARY:City Council Meeting
DESCRIPTION:
URL:https://www.sherwoodoregon.gov/meetings/city-council-meeting
LOCATION:Sherwood City Hall\, Community Room\, 22560 SW Pine Street\, Sherwood\, OR\, 97140\, United States
CATEGORIES:Boards and Commissions,City Council
END:VEVENT
BEGIN:VEVENT
DTSTART;TZID=America/Los_Angeles:20250402T101500
DTEND;TZID=America/Los_Angeles:20250402T111500
DTSTAMP:20260423T092732
CREATED:20250402T223358Z
LAST-MODIFIED:20250807T003653Z
UID:10000080-1743588900-1743592500@www.sherwoodoregon.gov
SUMMARY:All Ages Storytime Session 2
DESCRIPTION:Let’s grow together in literacy! Join us for an interactive program where we read books\, enjoy puppets\, sing songs\, and play action rhymes. \nThis program is planned for kids ages birth to 6. All ages and abilities are welcome. \nA 15 minute playtime follows session 1 and a 30 minute playtime follows session 2 storytime. \nWe try to create a welcoming environment for everyone. If your child has special needs\, please let a staff member know and we will try to accommodate.
URL:https://www.sherwoodoregon.gov/events_detail/all-ages-storytime-session-2/2025-04-02/
LOCATION:OR
CATEGORIES:Library
ATTACH;FMTTYPE=image/png:https://www.sherwoodoregon.gov/wp-content/uploads/2025/04/copy-of-all-ages-storytime-s1jbmc-tmp-.png
END:VEVENT
BEGIN:VEVENT
DTSTART;TZID=America/Los_Angeles:20250403T093000
DTEND;TZID=America/Los_Angeles:20250403T100000
DTSTAMP:20260423T092732
CREATED:20250402T224209Z
LAST-MODIFIED:20250529T192733Z
UID:10000081-1743672600-1743674400@www.sherwoodoregon.gov
SUMMARY:Baby Storytime
DESCRIPTION:Baby Storytime is a great way to introduce your child to the love of reading and books. \nWe lead parents and caregivers in an interactive experience that will have you bouncing\, tickling\, singing\, and enjoying books together with your baby. \nThis program is designed for both the child\, ages 0-12 months\, and their adult(s). \nAttendees\, please bring a blanket for your baby to be on and your own toys. \n15 minutes of playtime follows this storytime.
URL:https://www.sherwoodoregon.gov/events_detail/baby-storytime/2025-04-03/
LOCATION:OR
CATEGORIES:Library
ATTACH;FMTTYPE=image/jpeg:https://www.sherwoodoregon.gov/wp-content/uploads/2025/04/baby-storytime-bears-white-background-fqx09s-tmp-.jpg
END:VEVENT
BEGIN:VEVENT
DTSTART;TZID=America/Los_Angeles:20250403T101500
DTEND;TZID=America/Los_Angeles:20250403T104500
DTSTAMP:20260423T092732
CREATED:20250402T225106Z
LAST-MODIFIED:20251022T185427Z
UID:10000086-1743675300-1743677100@www.sherwoodoregon.gov
SUMMARY:Fun for Ones Storytime
DESCRIPTION:Fun for Ones is the perfect next step for your walking one-year-old. \nWe will sing\, dance\, read\, and create an experience for you and your child to grow the love of books and reading at this in-person event. \nThis program is designed for youth\, ages 12-23 months\, and their caregivers. \n30 minutes of playtime follows this storytime. \n  \n  \nEnjoy our storytime activity sheets! \nAlphabet-themed coloring sheets. \nLetter Knowledge worksheets. \nLetter Matching Worksheets. \nAlphabet Pages with Math Concepts Coloring Sheets. \n 
URL:https://www.sherwoodoregon.gov/events_detail/fun-for-ones-storytime/2025-04-03/
LOCATION:OR
CATEGORIES:Library
ATTACH;FMTTYPE=image/jpeg:https://www.sherwoodoregon.gov/wp-content/uploads/2025/04/ffo-graphic-cj1ekc-tmp-.jpg
END:VEVENT
BEGIN:VEVENT
DTSTART;TZID=America/Los_Angeles:20250407T190000
DTEND;TZID=America/Los_Angeles:20250407T200000
DTSTAMP:20260423T092732
CREATED:20260214T001154Z
LAST-MODIFIED:20260214T001154Z
UID:10001733-1744052400-1744056000@www.sherwoodoregon.gov
SUMMARY:Parks and Recreation Advisory Board Meeting
DESCRIPTION:
URL:https://www.sherwoodoregon.gov/meetings/parks-and-recreation-advisory-board-meeting-40
LOCATION:Sherwood City Hall\, Community Room\, 22560 SW Pine Street\, Sherwood\, OR\, 97140\, United States
CATEGORIES:Parks & Recreation Advisory Board
END:VEVENT
BEGIN:VEVENT
DTSTART;TZID=America/Los_Angeles:20250408T093000
DTEND;TZID=America/Los_Angeles:20250408T101500
DTSTAMP:20260423T092732
CREATED:20250402T230324Z
LAST-MODIFIED:20250529T170909Z
UID:10000093-1744104600-1744107300@www.sherwoodoregon.gov
SUMMARY:Toddler Storytime
DESCRIPTION:Unfortunately\, we need to cancel Storytime this morning. Open Play will be available in the Community Room in its place. \n  \nAre you ready to sing\, dance\, play and listen? Then you’re ready for Toddler Storytime! \nWe create an interactive experience for you and your child to grow the love of books and reading at this in-person event. \nThis program is designed for ages 2-3 years and their caregivers. However\, any ages is welcomed to attend. \n15 minutes of playtime follows storytime. \nAt our storytimes\, we understand that  your child might not sit still during the whole program. Storytime is a place to practice skills your child will need when they enter school. Attending storytime regularly will make a difference. \nWe understand that you might need to leave during the program because your child is feeling a lot of emotions. If you leave\, you are allowed to reenter the room at anytime. Or\, come back when you can\, another day. \nIf your child has sensitivity to light or sound\, please let us know—we can make adjustments.
URL:https://www.sherwoodoregon.gov/events_detail/toddler-storytime-2/2025-04-08/
LOCATION:OR
CATEGORIES:Library
ATTACH;FMTTYPE=image/png:https://www.sherwoodoregon.gov/wp-content/uploads/2025/04/toddler-st-image-2022-txulk0-tmp-.png
END:VEVENT
BEGIN:VEVENT
DTSTART;TZID=America/Los_Angeles:20250408T101500
DTEND;TZID=America/Los_Angeles:20250408T111500
DTSTAMP:20260423T092732
CREATED:20250402T230234Z
LAST-MODIFIED:20250529T170909Z
UID:10000092-1744107300-1744110900@www.sherwoodoregon.gov
SUMMARY:Toddler Storytime
DESCRIPTION:Are you ready to sing\, dance\, play and listen? Then you’re ready for Toddler Storytime! \nWe create an interactive experience for you and your child to grow the love of books and reading at this in-person event. \nThis program is designed for ages 2-3 years and their caregivers. However\, any ages is welcomed to attend. \n20 minutes of playtime follows storytime. \nAt our storytimes\, we understand that  your child might not sit still during the whole program. Storytime is a place to practice skills your child will need when they enter school. Attending storytime regularly will make a difference. \nWe understand that you might need to leave during the program because your child is feeling a lot of emotions. If you leave\, you are allowed to reenter the room at anytime. Or\, come back when you can\, another day. \nIf your child has sensitivity to light or sound\, please let us know—we can make adjustments.
URL:https://www.sherwoodoregon.gov/events_detail/toddler-storytime/2025-04-08/
LOCATION:OR
CATEGORIES:Library
ATTACH;FMTTYPE=image/png:https://www.sherwoodoregon.gov/wp-content/uploads/2025/04/toddler-st-image-2022-txulk0-tmp-.png
END:VEVENT
BEGIN:VEVENT
DTSTART;TZID=America/Los_Angeles:20250408T190000
DTEND;TZID=America/Los_Angeles:20250408T200000
DTSTAMP:20260423T092732
CREATED:20250331T204220Z
LAST-MODIFIED:20250331T204220Z
UID:10000008-1744138800-1744142400@www.sherwoodoregon.gov
SUMMARY:Planning Commission Meeting
DESCRIPTION:
URL:https://www.sherwoodoregon.gov/meetings/planning-commission-meeting
LOCATION:Sherwood City Hall\, Community Room\, 22560 SW Pine Street\, Sherwood\, OR\, 97140\, United States
CATEGORIES:Boards and Commissions,Planning Commission
END:VEVENT
END:VCALENDAR