BEGIN:VCALENDAR
VERSION:2.0
PRODID:-//City of Sherwood - ECPv6.15.17//NONSGML v1.0//EN
CALSCALE:GREGORIAN
METHOD:PUBLISH
X-WR-CALNAME:City of Sherwood
X-ORIGINAL-URL:https://www.sherwoodoregon.gov
X-WR-CALDESC:Events for City of Sherwood
REFRESH-INTERVAL;VALUE=DURATION:PT1H
X-Robots-Tag:noindex
X-PUBLISHED-TTL:PT1H
BEGIN:VTIMEZONE
TZID:America/Los_Angeles
BEGIN:DAYLIGHT
TZOFFSETFROM:-0800
TZOFFSETTO:-0700
TZNAME:PDT
DTSTART:20200308T100000
END:DAYLIGHT
BEGIN:STANDARD
TZOFFSETFROM:-0700
TZOFFSETTO:-0800
TZNAME:PST
DTSTART:20201101T090000
END:STANDARD
BEGIN:DAYLIGHT
TZOFFSETFROM:-0800
TZOFFSETTO:-0700
TZNAME:PDT
DTSTART:20210314T100000
END:DAYLIGHT
BEGIN:STANDARD
TZOFFSETFROM:-0700
TZOFFSETTO:-0800
TZNAME:PST
DTSTART:20211107T090000
END:STANDARD
BEGIN:DAYLIGHT
TZOFFSETFROM:-0800
TZOFFSETTO:-0700
TZNAME:PDT
DTSTART:20220313T100000
END:DAYLIGHT
BEGIN:STANDARD
TZOFFSETFROM:-0700
TZOFFSETTO:-0800
TZNAME:PST
DTSTART:20221106T090000
END:STANDARD
END:VTIMEZONE
BEGIN:VEVENT
DTSTART;TZID=America/Los_Angeles:20210119T190000
DTEND;TZID=America/Los_Angeles:20210119T200000
DTSTAMP:20260425T191949
CREATED:20251028T194008Z
LAST-MODIFIED:20251028T194008Z
UID:10001052-1611082800-1611086400@www.sherwoodoregon.gov
SUMMARY:City Council Meeting
DESCRIPTION:
URL:https://www.sherwoodoregon.gov/meetings/city-council-meeting-142
LOCATION:Sherwood City Hall\, Community Room\, 22560 SW Pine Street\, Sherwood\, OR\, 97140\, United States
CATEGORIES:City Council
END:VEVENT
BEGIN:VEVENT
DTSTART;TZID=America/Los_Angeles:20210105T190000
DTEND;TZID=America/Los_Angeles:20210105T200000
DTSTAMP:20260425T191949
CREATED:20251028T194741Z
LAST-MODIFIED:20251028T194741Z
UID:10001053-1609873200-1609876800@www.sherwoodoregon.gov
SUMMARY:City Council Meeting
DESCRIPTION:
URL:https://www.sherwoodoregon.gov/meetings/city-council-meeting-143
LOCATION:Sherwood City Hall\, Community Room\, 22560 SW Pine Street\, Sherwood\, OR\, 97140\, United States
CATEGORIES:City Council
END:VEVENT
BEGIN:VEVENT
DTSTART;TZID=America/Los_Angeles:20210104T190000
DTEND;TZID=America/Los_Angeles:20210104T200000
DTSTAMP:20260425T191949
CREATED:20260210T185713Z
LAST-MODIFIED:20260210T185713Z
UID:10001655-1609786800-1609790400@www.sherwoodoregon.gov
SUMMARY:Parks and Recreation Advisory Board
DESCRIPTION:
URL:https://www.sherwoodoregon.gov/meetings/parks-and-recreation-advisory-board
LOCATION:https://www.youtube.com/live/w5NlD1yGgtE?si=dQ4m2GEB9Vi5mSxk
CATEGORIES:Parks & Recreation Advisory Board
END:VEVENT
END:VCALENDAR