BEGIN:VCALENDAR
VERSION:2.0
PRODID:-//City of Sherwood - ECPv6.15.17//NONSGML v1.0//EN
CALSCALE:GREGORIAN
METHOD:PUBLISH
X-ORIGINAL-URL:https://www.sherwoodoregon.gov
X-WR-CALDESC:Events for City of Sherwood
REFRESH-INTERVAL;VALUE=DURATION:PT1H
X-Robots-Tag:noindex
X-PUBLISHED-TTL:PT1H
BEGIN:VTIMEZONE
TZID:America/Los_Angeles
BEGIN:DAYLIGHT
TZOFFSETFROM:-0800
TZOFFSETTO:-0700
TZNAME:PDT
DTSTART:20240310T100000
END:DAYLIGHT
BEGIN:STANDARD
TZOFFSETFROM:-0700
TZOFFSETTO:-0800
TZNAME:PST
DTSTART:20241103T090000
END:STANDARD
BEGIN:DAYLIGHT
TZOFFSETFROM:-0800
TZOFFSETTO:-0700
TZNAME:PDT
DTSTART:20250309T100000
END:DAYLIGHT
BEGIN:STANDARD
TZOFFSETFROM:-0700
TZOFFSETTO:-0800
TZNAME:PST
DTSTART:20251102T090000
END:STANDARD
BEGIN:DAYLIGHT
TZOFFSETFROM:-0800
TZOFFSETTO:-0700
TZNAME:PDT
DTSTART:20260308T100000
END:DAYLIGHT
BEGIN:STANDARD
TZOFFSETFROM:-0700
TZOFFSETTO:-0800
TZNAME:PST
DTSTART:20261101T090000
END:STANDARD
BEGIN:DAYLIGHT
TZOFFSETFROM:-0800
TZOFFSETTO:-0700
TZNAME:PDT
DTSTART:20270314T100000
END:DAYLIGHT
BEGIN:STANDARD
TZOFFSETFROM:-0700
TZOFFSETTO:-0800
TZNAME:PST
DTSTART:20271107T090000
END:STANDARD
END:VTIMEZONE
BEGIN:VEVENT
DTSTART;TZID=America/Los_Angeles:20260423T180000
DTEND;TZID=America/Los_Angeles:20260423T200000
DTSTAMP:20260424T040845
CREATED:20260408T162353Z
LAST-MODIFIED:20260420T234803Z
UID:10001901-1776967200-1776974400@www.sherwoodoregon.gov
SUMMARY:Traffic Safety Board Meeting-CANCELLED
DESCRIPTION:
URL:https://www.sherwoodoregon.gov/meetings/traffic-safety-board-meeting-6
LOCATION:Sherwood Police Department\, Community Room\, 20495 SW Borchers Drive\, Sherwood\, OR\, 97140\, United States
CATEGORIES:Boards and Commissions,Police,Traffic Safety Board
END:VEVENT
BEGIN:VEVENT
DTSTART;TZID=America/Los_Angeles:20260416T190000
DTEND;TZID=America/Los_Angeles:20260416T210000
DTSTAMP:20260424T040845
CREATED:20260402T222842Z
LAST-MODIFIED:20260409T211332Z
UID:10001806-1776366000-1776373200@www.sherwoodoregon.gov
SUMMARY:Police Advisory Board Meeting 4/16/2026
DESCRIPTION:
URL:https://www.sherwoodoregon.gov/meetings/police-advisory-board-meeting-9-2
LOCATION:Sherwood Police Department\, Community Room\, 20495 SW Borchers Drive\, Sherwood\, OR\, 97140\, United States
CATEGORIES:Boards and Commissions,Police,Police Advisory Board
END:VEVENT
BEGIN:VEVENT
DTSTART;TZID=America/Los_Angeles:20260326T180000
DTEND;TZID=America/Los_Angeles:20260326T200000
DTSTAMP:20260424T040845
CREATED:20260224T181757Z
LAST-MODIFIED:20260401T154436Z
UID:10001743-1774548000-1774555200@www.sherwoodoregon.gov
SUMMARY:Traffic Safety Board Meeting
DESCRIPTION:
URL:https://www.sherwoodoregon.gov/meetings/traffic-safety-board-meeting-5
LOCATION:Sherwood Police Department\, Community Room\, 20495 SW Borchers Drive\, Sherwood\, OR\, 97140\, United States
CATEGORIES:Boards and Commissions,Police,Traffic Safety Board
END:VEVENT
BEGIN:VEVENT
DTSTART;TZID=America/Los_Angeles:20260319T190000
DTEND;TZID=America/Los_Angeles:20260319T210000
DTSTAMP:20260424T040845
CREATED:20260219T232109Z
LAST-MODIFIED:20260401T154058Z
UID:10001740-1773946800-1773954000@www.sherwoodoregon.gov
SUMMARY:Police Advisory Board Meeting
DESCRIPTION:
URL:https://www.sherwoodoregon.gov/meetings/police-advisory-board-meeting-8
LOCATION:Sherwood Police Department\, Community Room\, 20495 SW Borchers Drive\, Sherwood\, OR\, 97140\, United States
CATEGORIES:Boards and Commissions,Police,Police Advisory Board
END:VEVENT
BEGIN:VEVENT
DTSTART;TZID=America/Los_Angeles:20260226T180000
DTEND;TZID=America/Los_Angeles:20260226T200000
DTSTAMP:20260424T040845
CREATED:20260123T183334Z
LAST-MODIFIED:20260219T163739Z
UID:10001609-1772128800-1772136000@www.sherwoodoregon.gov
SUMMARY:Traffic Safety Board Meeting-CANCELLED
DESCRIPTION:
URL:https://www.sherwoodoregon.gov/meetings/traffic-safety-board-meeting-4
LOCATION:Sherwood Police Department\, Community Room\, 20495 SW Borchers Drive\, Sherwood\, OR\, 97140\, United States
CATEGORIES:Boards and Commissions,Police,Traffic Safety Board
END:VEVENT
BEGIN:VEVENT
DTSTART;TZID=America/Los_Angeles:20260219T190000
DTEND;TZID=America/Los_Angeles:20260219T210000
DTSTAMP:20260424T040845
CREATED:20260122T231340Z
LAST-MODIFIED:20260219T232425Z
UID:10001607-1771527600-1771534800@www.sherwoodoregon.gov
SUMMARY:Police Advisory Board Meeting-CANCELLED
DESCRIPTION:
URL:https://www.sherwoodoregon.gov/meetings/police-advisory-board-meeting-7
LOCATION:Sherwood Police Department\, Community Room\, 20495 SW Borchers Drive\, Sherwood\, OR\, 97140\, United States
CATEGORIES:Boards and Commissions,Police,Police Advisory Board
END:VEVENT
BEGIN:VEVENT
DTSTART;TZID=America/Los_Angeles:20260122T180000
DTEND;TZID=America/Los_Angeles:20260122T200000
DTSTAMP:20260424T040845
CREATED:20251218T163230Z
LAST-MODIFIED:20260401T173652Z
UID:10001471-1769104800-1769112000@www.sherwoodoregon.gov
SUMMARY:Traffic Safety Board Meeting
DESCRIPTION:
URL:https://www.sherwoodoregon.gov/meetings/traffic-safety-board-meeting-3
LOCATION:Sherwood Police Department\, Community Room\, 20495 SW Borchers Drive\, Sherwood\, OR\, 97140\, United States
CATEGORIES:Boards and Commissions,Police,Traffic Safety Board
END:VEVENT
BEGIN:VEVENT
DTSTART;TZID=America/Los_Angeles:20260115T190000
DTEND;TZID=America/Los_Angeles:20260115T210000
DTSTAMP:20260424T040845
CREATED:20251218T162750Z
LAST-MODIFIED:20260401T160154Z
UID:10001470-1768503600-1768510800@www.sherwoodoregon.gov
SUMMARY:Police Advisory Board Meeting
DESCRIPTION:
URL:https://www.sherwoodoregon.gov/meetings/police-advisory-board-meeting-6
LOCATION:Sherwood Police Department\, Community Room\, 20495 SW Borchers Drive\, Sherwood\, OR\, 97140\, United States
CATEGORIES:Police,Police Advisory Board
END:VEVENT
BEGIN:VEVENT
DTSTART;TZID=America/Los_Angeles:20251225T180000
DTEND;TZID=America/Los_Angeles:20251225T200000
DTSTAMP:20260424T040845
CREATED:20251017T190917Z
LAST-MODIFIED:20251218T163941Z
UID:10000878-1766685600-1766692800@www.sherwoodoregon.gov
SUMMARY:Traffic Safety Board Meeting - Cancelled
DESCRIPTION:
URL:https://www.sherwoodoregon.gov/meetings/traffic-safety-board-cancelled
LOCATION:Sherwood Police Department\, Community Room\, 20495 SW Borchers Drive\, Sherwood\, OR\, 97140\, United States
CATEGORIES:Police,Traffic Safety Board
END:VEVENT
BEGIN:VEVENT
DTSTART;TZID=America/Los_Angeles:20251218T190000
DTEND;TZID=America/Los_Angeles:20251218T210000
DTSTAMP:20260424T040845
CREATED:20251125T181742Z
LAST-MODIFIED:20251218T164019Z
UID:10001246-1766084400-1766091600@www.sherwoodoregon.gov
SUMMARY:Police Advisory Board Meeting-Cancelled
DESCRIPTION:
URL:https://www.sherwoodoregon.gov/meetings/police-advisory-board-meeting-cancelled
LOCATION:Sherwood Police Department\, Community Room\, 20495 SW Borchers Drive\, Sherwood\, OR\, 97140\, United States
CATEGORIES:Police,Police Advisory Board
END:VEVENT
BEGIN:VEVENT
DTSTART;TZID=America/Los_Angeles:20250723T000000
DTEND;TZID=America/Los_Angeles:20250723T235959
DTSTAMP:20260424T040845
CREATED:20250723T171342Z
LAST-MODIFIED:20250903T181734Z
UID:10000459-1753228800-1753315199@www.sherwoodoregon.gov
SUMMARY:SPD's National Night Out
DESCRIPTION:
URL:https://www.sherwoodoregon.gov/events_detail/spds-national-night-out/
LOCATION:OR
CATEGORIES:Police
END:VEVENT
END:VCALENDAR