BEGIN:VCALENDAR
VERSION:2.0
PRODID:-//City of Sherwood - ECPv6.15.17//NONSGML v1.0//EN
CALSCALE:GREGORIAN
METHOD:PUBLISH
X-WR-CALNAME:City of Sherwood
X-ORIGINAL-URL:https://www.sherwoodoregon.gov
X-WR-CALDESC:Events for City of Sherwood
REFRESH-INTERVAL;VALUE=DURATION:PT1H
X-Robots-Tag:noindex
X-PUBLISHED-TTL:PT1H
BEGIN:VTIMEZONE
TZID:America/Los_Angeles
BEGIN:DAYLIGHT
TZOFFSETFROM:-0800
TZOFFSETTO:-0700
TZNAME:PDT
DTSTART:20250309T100000
END:DAYLIGHT
BEGIN:STANDARD
TZOFFSETFROM:-0700
TZOFFSETTO:-0800
TZNAME:PST
DTSTART:20251102T090000
END:STANDARD
BEGIN:DAYLIGHT
TZOFFSETFROM:-0800
TZOFFSETTO:-0700
TZNAME:PDT
DTSTART:20260308T100000
END:DAYLIGHT
BEGIN:STANDARD
TZOFFSETFROM:-0700
TZOFFSETTO:-0800
TZNAME:PST
DTSTART:20261101T090000
END:STANDARD
BEGIN:DAYLIGHT
TZOFFSETFROM:-0800
TZOFFSETTO:-0700
TZNAME:PDT
DTSTART:20270314T100000
END:DAYLIGHT
BEGIN:STANDARD
TZOFFSETFROM:-0700
TZOFFSETTO:-0800
TZNAME:PST
DTSTART:20271107T090000
END:STANDARD
END:VTIMEZONE
BEGIN:VEVENT
DTSTART;TZID=America/Los_Angeles:20260401T000000
DTEND;TZID=America/Los_Angeles:20260531T235959
DTSTAMP:20260423T012714
CREATED:20260323T192554Z
LAST-MODIFIED:20260407T002735Z
UID:10001802-1775001600-1780271999@www.sherwoodoregon.gov
SUMMARY:One Book\, One Coast -- Community Reads
DESCRIPTION:Join us for a new community reads event this spring. We’re excited to take part in the first year of One Book\, One Coast\, the largest library book club on the West Coast! \nOver 100 libraries throughout Oregon\, Washington\, and California will gather from April 1 to May 31 to read a shared book together. The program unites libraries and readers by celebrating literacy\, learning\, community\, and civic discourse. \nThis year’s pick is They Called Us Enemy by George Takei. This bestselling graphic memoir recounts Takei’s experiences in incarceration camps during his childhood. \nPick up a *free copy of They Called Us Enemy at the library\, while supplies last. Prefer to read digitally? Find an always-available copy on Libby. \nWe will be hosting virtual and in-person book groups to discuss They Called Us Enemy: \n\nThursday\, May 21st @ 6pm\, Virtual. Please register to receive the Zoom link.\nWednesday\, May 27th @ 6pm\, In-person. Registration is encouraged but not required.\n\nGeorge Takei will speak about the book on Sunday\, May 31st from 2-4pm at the East Los Angeles Library. Join us at the library to watch the livestream\, or register to watch online. \n*Giveaway copies were generously donated by the Friends of the Sherwood Library.
URL:https://www.sherwoodoregon.gov/events_detail/one-book-one-coast-community-reads/2026-04-01/1/
LOCATION:OR
CATEGORIES:Library
ATTACH;FMTTYPE=image/jpeg:https://www.sherwoodoregon.gov/wp-content/uploads/2026/03/obocoast-gtakei-social-1920x1080.jpg
END:VEVENT
BEGIN:VEVENT
DTSTART;TZID=America/Los_Angeles:20260421T093000
DTEND;TZID=America/Los_Angeles:20260421T100000
DTSTAMP:20260423T012714
CREATED:20260128T230453Z
LAST-MODIFIED:20260128T230453Z
UID:10001620-1776763800-1776765600@www.sherwoodoregon.gov
SUMMARY:Baby Storytime
DESCRIPTION:Welcome infants 0-12 months and their caregivers! \nAttending Baby Storytime is a great way to build the bond between child and adult. \nIn this program you and your baby will sing songs\, play action rhymes\, and grow together with books. \n15 minutes of playtime for babies and conversation time for adults follows. \nThis is the spring session of this program and it runs March 3 –May 19\, 2026. \nBaby Storytime takes a break March 24\, 2026. \nArrive anytime between 9:30a.m. – 10:00a.m. to enjoy this program. We understand how difficult it is to be punctual with a baby. Playtime is just as beneficial as the storytime. \nLibrary opens at 10:00 a.m.
URL:https://www.sherwoodoregon.gov/events_detail/baby-storytime-4/2026-04-21/
LOCATION:OR
CATEGORIES:Library
ATTACH;FMTTYPE=image/png:https://www.sherwoodoregon.gov/wp-content/uploads/2026/01/baby-storytime.png
END:VEVENT
BEGIN:VEVENT
DTSTART;TZID=America/Los_Angeles:20260421T101500
DTEND;TZID=America/Los_Angeles:20260421T111500
DTSTAMP:20260423T012714
CREATED:20260128T231853Z
LAST-MODIFIED:20260128T231853Z
UID:10001632-1776766500-1776770100@www.sherwoodoregon.gov
SUMMARY:Fun For Ones
DESCRIPTION:Welcome toddlers 12 months – 24 months and their caregivers! \nAttending Fun for Ones Storytime is a great way to build the bond between child and adult. \nIn this program you and your toddler will sing songs\, play action rhymes\, and grow together with books. \n20 minutes of playtime for kids and conversation time for adults follows each session. \nThis is the spring session of this program and it runs March 3 – May 19\, 2026. \nFun for Ones Storytime takes a break March 24. \nArrive anytime between 10:15 a.m. – 11:00a.m. to enjoy this program. We understand how difficult it is to be punctual with a toddler. Playtime is just as beneficial as the storytime.
URL:https://www.sherwoodoregon.gov/events_detail/fun-for-ones-3/2026-04-21/
LOCATION:OR
CATEGORIES:Library
ATTACH;FMTTYPE=image/png:https://www.sherwoodoregon.gov/wp-content/uploads/2026/01/fun-for-ones-1.png
END:VEVENT
BEGIN:VEVENT
DTSTART;TZID=America/Los_Angeles:20260421T173000
DTEND;TZID=America/Los_Angeles:20260421T200000
DTSTAMP:20260423T012714
CREATED:20260106T194756Z
LAST-MODIFIED:20260415T192712Z
UID:10001518-1776792600-1776801600@www.sherwoodoregon.gov
SUMMARY:City Council Meeting
DESCRIPTION:
URL:https://www.sherwoodoregon.gov/meetings/city-council-meeting-155
LOCATION:Sherwood City Hall\, Community Room\, 22560 SW Pine Street\, Sherwood\, OR\, 97140\, United States
CATEGORIES:City Council
END:VEVENT
END:VCALENDAR